BEGIN:VCALENDAR
VERSION:2.0
PRODID:-//Penlee House - ECPv6.15.11//NONSGML v1.0//EN
CALSCALE:GREGORIAN
METHOD:PUBLISH
X-WR-CALNAME:Penlee House
X-ORIGINAL-URL:https://penleehouse.org.uk
X-WR-CALDESC:Events for Penlee House
REFRESH-INTERVAL;VALUE=DURATION:PT1H
X-Robots-Tag:noindex
X-PUBLISHED-TTL:PT1H
BEGIN:VTIMEZONE
TZID:UTC
BEGIN:STANDARD
TZOFFSETFROM:+0000
TZOFFSETTO:+0000
TZNAME:UTC
DTSTART:20240101T000000
END:STANDARD
END:VTIMEZONE
BEGIN:VEVENT
DTSTART;TZID=UTC:20250503T143000
DTEND;TZID=UTC:20250503T153000
DTSTAMP:20260423T213350
CREATED:20250424T142309Z
LAST-MODIFIED:20250424T142309Z
UID:34124-1746282600-1746286200@penleehouse.org.uk
SUMMARY:Arty Afternoons: Air Dough Cornish Pottery
DESCRIPTION:Check out the Cornish pottery we have in our Social History Museum space. From Leach and Tremaen pottery to Celtic Folk designs\, the pottery we have on display is full of vibrant patterns. Taking inspiration from these designs\, draw and score shapes and colours onto air dough to create your own Cornish pottery. \n\n\nFREE family activities take place every Saturday; drop in anytime between 2.30pm and 3.30pm.
URL:https://penleehouse.org.uk/event/arty-afternoons-air-dough-cornish-pottery/
ATTACH;FMTTYPE=image/png:https://penleehouse.org.uk/wp-content/uploads/2025/04/9.png
END:VEVENT
BEGIN:VEVENT
DTSTART;TZID=UTC:20250510T143000
DTEND;TZID=UTC:20250510T153000
DTSTAMP:20260423T213350
CREATED:20250424T140158Z
LAST-MODIFIED:20250508T181343Z
UID:34111-1746887400-1746891000@penleehouse.org.uk
SUMMARY:Arty Afternoons: Breon O’Casey Bird Silhouettes
DESCRIPTION:Explore the Breon O’Casey artwork in our exhibition about birds. What colours and patterns can you see? What kind of bird do you think it is in the art? Make paper cutouts inspired by Breon O’Casey’s simple\, colourful shapes. \n\n\nFREE family activities take place every Saturday; drop in anytime between 2.30 pm and 3.30 pm.
URL:https://penleehouse.org.uk/event/arty-afternoons-breon-ocasey-bird-silhouettes/
ATTACH;FMTTYPE=image/png:https://penleehouse.org.uk/wp-content/uploads/2025/04/8.png
END:VEVENT
BEGIN:VEVENT
DTSTART;TZID=UTC:20250515T100000
DTEND;TZID=UTC:20250517T163000
DTSTAMP:20260423T213350
CREATED:20250519T145155Z
LAST-MODIFIED:20250519T145155Z
UID:34365-1747303200-1747499400@penleehouse.org.uk
SUMMARY:Jennifer Brown – A Centenary Celebration
DESCRIPTION:Jennifer Brown (27.05.1925 – 16.04.2008) was born in London and studied at Kingston School of Art. In 1975\, with her husband and four children\, she moved to Newlyn\, and then Penzance\, where Jennifer studied printmaking at the Penzance School of Art.\n\n \n\nA founder member of Penwith Printmakers and a member of the Newlyn Society of Artists\, she exhibited at several venues in the 1980s and 90s\, from Penlee House to the Mid-Cornwall Galleries and further afield from Bournemouth to London.\n\n \n\nJennifer was renowned for her individual\, quirky etchings and verses and was the author of three poetry collections\, A Picker Up of Pieces\, Cucumber Sandwiches and Life Bites.  Although many of her prints and poems were amusing\, her work also commented on the human condition\, often sardonic and laced with sadness.\n\n \n\nA small display of Jennifer’s work has been staged to commemorate the centenary of her birth and will be on show in the Social History gallery until 18 June.
URL:https://penleehouse.org.uk/event/jennifer-brown-a-centenary-celebration/
ATTACH;FMTTYPE=image/jpeg:https://penleehouse.org.uk/wp-content/uploads/2025/05/4-scaled.jpg
END:VEVENT
BEGIN:VEVENT
DTSTART;TZID=UTC:20250517T143000
DTEND;TZID=UTC:20250517T153000
DTSTAMP:20260423T213350
CREATED:20250424T143730Z
LAST-MODIFIED:20250424T143730Z
UID:34126-1747492200-1747495800@penleehouse.org.uk
SUMMARY:Arty Afternoons: Mix and Match Bird Book
DESCRIPTION:Taking inspiration from all the different types of birds in the Birds exhibition at Penlee House\, design and draw your own mix-and-match book. What heads\, bodies and legs can you match up to make a weird and wonderful new type of bird \n\n\nFREE family activities take place every Saturday; drop in anytime between 2.30 pm and 3.30 pm. \n\n\n\n\n\n 
URL:https://penleehouse.org.uk/event/arty-afternoons-mix-and-match-bird-book/
ATTACH;FMTTYPE=image/png:https://penleehouse.org.uk/wp-content/uploads/2025/04/10.png
END:VEVENT
BEGIN:VEVENT
DTSTART;TZID=UTC:20250519T100000
DTEND;TZID=UTC:20250524T163000
DTSTAMP:20260423T213350
CREATED:20250519T145250Z
LAST-MODIFIED:20250519T145350Z
UID:34367-1747648800-1748104200@penleehouse.org.uk
SUMMARY:Jennifer Brown – A Centenary Celebration
DESCRIPTION:Jennifer Brown (27.05.1925 – 16.04.2008) was born in London and studied at Kingston School of Art. In 1975\, with her husband and four children\, she moved to Newlyn\, and then Penzance\, where Jennifer studied printmaking at the Penzance School of Art. \n\n\n\nA founder member of Penwith Printmakers and a member of the Newlyn Society of Artists\, she exhibited at several venues in the 1980s and 90s\, from Penlee House to the Mid-Cornwall Galleries and further afield from Bournemouth to London. \n\n\n\nJennifer was renowned for her individual\, quirky etchings and verses and was the author of three poetry collections\, A Picker Up of Pieces\, Cucumber Sandwiches and Life Bites.  Although many of her prints and poems were amusing\, her work also commented on the human condition\, often sardonic and laced with sadness. \n\n\n\nA small display of Jennifer’s work has been staged to commemorate the centenary of her birth and will be on show in the Social History gallery until 18 June.
URL:https://penleehouse.org.uk/event/jennifer-brown-a-centenary-celebration-2/
ATTACH;FMTTYPE=image/jpeg:https://penleehouse.org.uk/wp-content/uploads/2025/05/4-scaled.jpg
END:VEVENT
BEGIN:VEVENT
DTSTART;TZID=UTC:20250521T193000
DTEND;TZID=UTC:20250521T210000
DTSTAMP:20260423T213350
CREATED:20250507T114444Z
LAST-MODIFIED:20250507T114444Z
UID:34185-1747855800-1747861200@penleehouse.org.uk
SUMMARY:Lecture: Birds of Cornwall
DESCRIPTION:Join us for an enlightening event with Jenny Parker the RSPB Cornwall Reserves Site Manager\, who is dedicated to highlighting the challenges facing Cornwall’s precious reserves and birdlife. Attendees can expect an in-depth discussion on the impacts of habitat loss and climate change\, enriched by Jenny’s deep insights and expertise. \nWhether you’re a seasoned environmentalist or simply curious about local wildlife\, this lecture promises to provide valuable information and inspire action to protect Cornwall’s natural treasures. \n📅 Wednesday 21st May\n🕣 7:30 PM\n📍 Queen’s Hotel\, Penzance\n🎟 £7.00 for Friends of Penlee House | £15.00 for Non-Friends \nBook Now! 
URL:https://penleehouse.org.uk/event/lecture-birds-of-cornwall/
LOCATION:Queen’s Hotel\, Penzance
ATTACH;FMTTYPE=image/jpeg:https://penleehouse.org.uk/wp-content/uploads/2025/05/Terry-Newing-Little-Egret-scaled.jpg
END:VEVENT
BEGIN:VEVENT
DTSTART;TZID=UTC:20250524T143000
DTEND;TZID=UTC:20250524T153000
DTSTAMP:20260423T213350
CREATED:20250424T144458Z
LAST-MODIFIED:20250424T144458Z
UID:34128-1748097000-1748100600@penleehouse.org.uk
SUMMARY:Arty Afternoons: Bird Nests and Eggs
DESCRIPTION:Come along to the Birds exhibition at Penlee House and explore the beautiful artworks. Make a 3D nest using recycled materials and make colourful eggs to nestle in your nest. \n\n\nFREE family activities take place every Saturday; drop in anytime between 2.30pm and 3.30pm.
URL:https://penleehouse.org.uk/event/arty-afternoons-bird-nests-and-eggs/
ATTACH;FMTTYPE=image/png:https://penleehouse.org.uk/wp-content/uploads/2025/04/12.png
END:VEVENT
BEGIN:VEVENT
DTSTART;TZID=UTC:20250526T100000
DTEND;TZID=UTC:20250531T163000
DTSTAMP:20260423T213350
CREATED:20250519T145424Z
LAST-MODIFIED:20250519T145533Z
UID:34369-1748253600-1748709000@penleehouse.org.uk
SUMMARY:Jennifer Brown – A Centenary Celebration
DESCRIPTION:Jennifer Brown (27.05.1925 – 16.04.2008) was born in London and studied at Kingston School of Art. In 1975\, with her husband and four children\, she moved to Newlyn\, and then Penzance\, where Jennifer studied printmaking at the Penzance School of Art. \n\n\n\nA founder member of Penwith Printmakers and a member of the Newlyn Society of Artists\, she exhibited at several venues in the 1980s and 90s\, from Penlee House to the Mid-Cornwall Galleries and further afield from Bournemouth to London. \n\n\n\nJennifer was renowned for her individual\, quirky etchings and verses and was the author of three poetry collections\, A Picker Up of Pieces\, Cucumber Sandwiches and Life Bites.  Although many of her prints and poems were amusing\, her work also commented on the human condition\, often sardonic and laced with sadness. \n\n\n\nA small display of Jennifer’s work has been staged to commemorate the centenary of her birth and will be on show in the Social History gallery until 18 June.
URL:https://penleehouse.org.uk/event/jennifer-brown-a-centenary-celebration-3/
ATTACH;FMTTYPE=image/jpeg:https://penleehouse.org.uk/wp-content/uploads/2025/05/4-scaled.jpg
END:VEVENT
BEGIN:VEVENT
DTSTART;TZID=UTC:20250529T133000
DTEND;TZID=UTC:20250529T153000
DTSTAMP:20260423T213350
CREATED:20250508T105205Z
LAST-MODIFIED:20250508T105205Z
UID:34193-1748525400-1748532600@penleehouse.org.uk
SUMMARY:Half Term Activity: Quill a Bird
DESCRIPTION:Explore the exhibition at Penlee House and discover lots of different types of birds. Join us to learn how to quill paper and make your own colourful\, patterned bird.
URL:https://penleehouse.org.uk/event/half-term-activity-quill-a-bird/
ATTACH;FMTTYPE=image/jpeg:https://penleehouse.org.uk/wp-content/uploads/2025/05/maxresdefault-2.jpg
END:VEVENT
BEGIN:VEVENT
DTSTART;TZID=UTC:20250531T143000
DTEND;TZID=UTC:20250531T153000
DTSTAMP:20260423T213350
CREATED:20250424T145303Z
LAST-MODIFIED:20250424T145932Z
UID:34130-1748701800-1748705400@penleehouse.org.uk
SUMMARY:Arty Afternoon: A Fan of Feathers!
DESCRIPTION:Design and decorate lots of feathers\, making them as colourful as you can. Then fix your feathers together to make a beautiful fan to keep you cool on a hot summers day. \n\n\nFREE family activities take place every Saturday; drop in anytime between 2.30pm and 3.30pm.
URL:https://penleehouse.org.uk/event/arty-afternoon-a-fan-of-feathers/
ATTACH;FMTTYPE=image/png:https://penleehouse.org.uk/wp-content/uploads/2025/04/11.png
END:VEVENT
END:VCALENDAR