BEGIN:VCALENDAR
VERSION:2.0
PRODID:-//Penlee House - ECPv6.15.11//NONSGML v1.0//EN
CALSCALE:GREGORIAN
METHOD:PUBLISH
X-ORIGINAL-URL:https://penleehouse.org.uk
X-WR-CALDESC:Events for Penlee House
REFRESH-INTERVAL;VALUE=DURATION:PT1H
X-Robots-Tag:noindex
X-PUBLISHED-TTL:PT1H
BEGIN:VTIMEZONE
TZID:UTC
BEGIN:STANDARD
TZOFFSETFROM:+0000
TZOFFSETTO:+0000
TZNAME:UTC
DTSTART:20250101T000000
END:STANDARD
END:VTIMEZONE
BEGIN:VEVENT
DTSTART;TZID=UTC:20260418T143000
DTEND;TZID=UTC:20260418T153000
DTSTAMP:20260419T182716
CREATED:20260224T162829Z
LAST-MODIFIED:20260224T162829Z
UID:37304-1776522600-1776526200@penleehouse.org.uk
SUMMARY:Arty Afternoons: Jigsaw of a portrait
DESCRIPTION:Choose a portrait painting or photograph from our exhibition and turn it into a jigsaw. You can draw your own jigsaw too\, maybe a self portrait design or a portrait of your favourite pet! \n\n\n\n\nFREE family activities take place every Saturday; drop in anytime between 2.30 pm and 3.30 pm.
URL:https://penleehouse.org.uk/event/arty-afternoons-jigsaw-of-a-portrait/
CATEGORIES:Arty Afternoons,Families
ATTACH;FMTTYPE=image/png:https://penleehouse.org.uk/wp-content/uploads/2026/02/18.png
END:VEVENT
BEGIN:VEVENT
DTSTART;TZID=UTC:20260421T193000
DTEND;TZID=UTC:20260421T210000
DTSTAMP:20260419T182716
CREATED:20260302T145907Z
LAST-MODIFIED:20260416T153631Z
UID:37312-1776799800-1776805200@penleehouse.org.uk
SUMMARY:Talk: Capturing the Community – Then and Now
DESCRIPTION:Penlee House’s exhibition Harry Penhaul: Life through a Lens took us back to post-war Penwith. How did he choose his subjects? What makes his work so good? And how does this contrast with the work of photojournalists today? Greg Martin\, himself a photojournalist\, will talk about Penhaul’s way of working and how photojournalists go about telling stories today. \nAbout Greg Martin: I worked predominantly as a photographer for over 20 years in Cornwall – originally as a surf photographer and magazine photo editor\, and then for 10 years as a press photojournalist. In the end\, I was the only full-time staff photojournalist in Cornwall. Over the years\, I’ve been lucky enough to photograph presidents\, prime ministers\, princes\, and\, more importantly\, the people of Cornwall. \nThis engaging talk offers a rare chance to look beyond the images: to understand not just what we see\, but how and why those moments were captured — and what it really means to tell a story with a camera. \n📅 Date: 21 April 2026 \n🕝 Time: 7.30 pm \n📍 Venue: The Queen’s Hotel\, Penzance \n🎟️ Tickets: £7 Friends | £15 General admission \n👉 Book now to secure your place!
URL:https://penleehouse.org.uk/event/talk-capturing-the-community-then-and-now/
LOCATION:Queen’s Hotel\, Penzance
CATEGORIES:Friends of Penlee House
ATTACH;FMTTYPE=image/png:https://penleehouse.org.uk/wp-content/uploads/2026/03/Featured-Images-for-Website-1.png
END:VEVENT
BEGIN:VEVENT
DTSTART;TZID=UTC:20260427T100000
DTEND;TZID=UTC:20260427T113000
DTSTAMP:20260419T182716
CREATED:20251121T151952Z
LAST-MODIFIED:20251121T151952Z
UID:35745-1777284000-1777289400@penleehouse.org.uk
SUMMARY:Baby Sensory
DESCRIPTION:Free\, drop-in session for babies from birth to crawlers. Come and experience the amazing artworks whilst exploring sensory play together in the Gallery.
URL:https://penleehouse.org.uk/event/baby-sensory-13/
CATEGORIES:Baby Sensory,Families
ATTACH;FMTTYPE=image/jpeg:https://penleehouse.org.uk/wp-content/uploads/2025/02/PZC2025025-6-scaled.jpg
END:VEVENT
BEGIN:VEVENT
DTSTART;TZID=UTC:20260511T100000
DTEND;TZID=UTC:20260511T113000
DTSTAMP:20260419T182716
CREATED:20251121T152255Z
LAST-MODIFIED:20251121T152255Z
UID:35747-1778493600-1778499000@penleehouse.org.uk
SUMMARY:Baby Sensory
DESCRIPTION:Free\, drop-in session for babies from birth to crawlers. Come and experience the amazing artworks whilst exploring sensory play together in the Gallery.
URL:https://penleehouse.org.uk/event/baby-sensory-14/
CATEGORIES:Baby Sensory,Families
ATTACH;FMTTYPE=image/jpeg:https://penleehouse.org.uk/wp-content/uploads/2025/02/PZC2025025-6-scaled.jpg
END:VEVENT
BEGIN:VEVENT
DTSTART;TZID=UTC:20260511T100000
DTEND;TZID=UTC:20260511T120000
DTSTAMP:20260419T182716
CREATED:20251121T152424Z
LAST-MODIFIED:20251121T152424Z
UID:35749-1778493600-1778500800@penleehouse.org.uk
SUMMARY:Little Penlee Explorers: Drop-in sessions for under 5s
DESCRIPTION:Join us to explore\, play and create at Penlee House! With activities throughout the galleries\, these free\, drop-in sessions are for under-5s and their grown-ups. \nMonthly on Mondays\, 10 am-12 pm.
URL:https://penleehouse.org.uk/event/little-penlee-explorers-drop-in-sessions-for-under-5s-8/
CATEGORIES:Families,Little Penlee Explorers
ATTACH;FMTTYPE=image/jpeg:https://penleehouse.org.uk/wp-content/uploads/2025/02/PZC2025025-7-scaled.jpg
END:VEVENT
BEGIN:VEVENT
DTSTART;TZID=UTC:20260525T100000
DTEND;TZID=UTC:20260525T113000
DTSTAMP:20260419T182716
CREATED:20251121T152554Z
LAST-MODIFIED:20251121T152554Z
UID:35751-1779703200-1779708600@penleehouse.org.uk
SUMMARY:Baby Sensory
DESCRIPTION:Free\, drop-in session for babies from birth to crawlers. Come and experience the amazing artworks whilst exploring sensory play together in the Gallery.
URL:https://penleehouse.org.uk/event/baby-sensory-15/
CATEGORIES:Baby Sensory,Families
ATTACH;FMTTYPE=image/jpeg:https://penleehouse.org.uk/wp-content/uploads/2025/02/PZC2025025-6-scaled.jpg
END:VEVENT
BEGIN:VEVENT
DTSTART;TZID=UTC:20260608T100000
DTEND;TZID=UTC:20260608T113000
DTSTAMP:20260419T182716
CREATED:20251121T152854Z
LAST-MODIFIED:20251121T152854Z
UID:35755-1780912800-1780918200@penleehouse.org.uk
SUMMARY:Baby Sensory
DESCRIPTION:Free\, drop-in session for babies from birth to crawlers. Come and experience the amazing artworks whilst exploring sensory play together in the Gallery.
URL:https://penleehouse.org.uk/event/baby-sensory-16/
CATEGORIES:Baby Sensory,Families
ATTACH;FMTTYPE=image/jpeg:https://penleehouse.org.uk/wp-content/uploads/2025/02/PZC2025025-6-scaled.jpg
END:VEVENT
BEGIN:VEVENT
DTSTART;TZID=UTC:20260608T100000
DTEND;TZID=UTC:20260608T120000
DTSTAMP:20260419T182716
CREATED:20251121T152717Z
LAST-MODIFIED:20251121T152717Z
UID:35753-1780912800-1780920000@penleehouse.org.uk
SUMMARY:Little Penlee Explorers: Drop-in sessions for under 5s
DESCRIPTION:Join us to explore\, play and create at Penlee House! With activities throughout the galleries\, these free\, drop-in sessions are for under-5s and their grown-ups. \nMonthly on Mondays\, 10 am-12 pm.
URL:https://penleehouse.org.uk/event/little-penlee-explorers-drop-in-sessions-for-under-5s-9/
CATEGORIES:Families,Little Penlee Explorers
ATTACH;FMTTYPE=image/jpeg:https://penleehouse.org.uk/wp-content/uploads/2025/02/PZC2025025-7-scaled.jpg
END:VEVENT
BEGIN:VEVENT
DTSTART;TZID=UTC:20260622T100000
DTEND;TZID=UTC:20260622T113000
DTSTAMP:20260419T182716
CREATED:20251121T153351Z
LAST-MODIFIED:20251121T153351Z
UID:35758-1782122400-1782127800@penleehouse.org.uk
SUMMARY:Baby Sensory
DESCRIPTION:Free\, drop-in session for babies from birth to crawlers. Come and experience the amazing artworks whilst exploring sensory play together in the Gallery.
URL:https://penleehouse.org.uk/event/baby-sensory-17/
CATEGORIES:Baby Sensory,Families
ATTACH;FMTTYPE=image/jpeg:https://penleehouse.org.uk/wp-content/uploads/2025/02/PZC2025025-6-scaled.jpg
END:VEVENT
BEGIN:VEVENT
DTSTART;TZID=UTC:20260706T100000
DTEND;TZID=UTC:20260706T113000
DTSTAMP:20260419T182716
CREATED:20251121T153705Z
LAST-MODIFIED:20251121T153705Z
UID:35762-1783332000-1783337400@penleehouse.org.uk
SUMMARY:Baby Sensory
DESCRIPTION:Free\, drop-in session for babies from birth to crawlers. Come and experience the amazing artworks whilst exploring sensory play together in the Gallery.
URL:https://penleehouse.org.uk/event/baby-sensory-18/
CATEGORIES:Baby Sensory,Families
ATTACH;FMTTYPE=image/jpeg:https://penleehouse.org.uk/wp-content/uploads/2025/02/PZC2025025-6-scaled.jpg
END:VEVENT
BEGIN:VEVENT
DTSTART;TZID=UTC:20260706T100000
DTEND;TZID=UTC:20260706T120000
DTSTAMP:20260419T182716
CREATED:20251121T153537Z
LAST-MODIFIED:20251121T153537Z
UID:35760-1783332000-1783339200@penleehouse.org.uk
SUMMARY:Little Penlee Explorers: Drop-in sessions for under 5s
DESCRIPTION:Join us to explore\, play and create at Penlee House! With activities throughout the galleries\, these free\, drop-in sessions are for under-5s and their grown-ups. \nMonthly on Mondays\, 10 am-12 pm.
URL:https://penleehouse.org.uk/event/little-penlee-explorers-drop-in-sessions-for-under-5s-10/
CATEGORIES:Families,Little Penlee Explorers
ATTACH;FMTTYPE=image/jpeg:https://penleehouse.org.uk/wp-content/uploads/2025/02/PZC2025025-7-scaled.jpg
END:VEVENT
BEGIN:VEVENT
DTSTART;TZID=UTC:20260720T100000
DTEND;TZID=UTC:20260720T113000
DTSTAMP:20260419T182716
CREATED:20251121T154133Z
LAST-MODIFIED:20251121T154133Z
UID:35764-1784541600-1784547000@penleehouse.org.uk
SUMMARY:Baby Sensory
DESCRIPTION:Free\, drop-in session for babies from birth to crawlers. Come and experience the amazing artworks whilst exploring sensory play together in the Gallery.
URL:https://penleehouse.org.uk/event/baby-sensory-19/
CATEGORIES:Baby Sensory,Families
ATTACH;FMTTYPE=image/jpeg:https://penleehouse.org.uk/wp-content/uploads/2025/02/PZC2025025-6-scaled.jpg
END:VEVENT
BEGIN:VEVENT
DTSTART;TZID=UTC:20260803T100000
DTEND;TZID=UTC:20260803T113000
DTSTAMP:20260419T182716
CREATED:20251121T154312Z
LAST-MODIFIED:20251121T154312Z
UID:35766-1785751200-1785756600@penleehouse.org.uk
SUMMARY:Baby Sensory
DESCRIPTION:Free\, drop-in session for babies from birth to crawlers. Come and experience the amazing artworks whilst exploring sensory play together in the Gallery.
URL:https://penleehouse.org.uk/event/baby-sensory-20/
ATTACH;FMTTYPE=image/jpeg:https://penleehouse.org.uk/wp-content/uploads/2025/02/PZC2025025-6-scaled.jpg
END:VEVENT
BEGIN:VEVENT
DTSTART;TZID=UTC:20260803T100000
DTEND;TZID=UTC:20260803T120000
DTSTAMP:20260419T182716
CREATED:20251121T154508Z
LAST-MODIFIED:20251121T154508Z
UID:35768-1785751200-1785758400@penleehouse.org.uk
SUMMARY:Little Penlee Explorers: Drop-in sessions for under 5s
DESCRIPTION:Join us to explore\, play and create at Penlee House! With activities throughout the galleries\, these free\, drop-in sessions are for under-5s and their grown-ups. \nMonthly on Mondays\, 10 am-12 pm.
URL:https://penleehouse.org.uk/event/little-penlee-explorers-drop-in-sessions-for-under-5s-11/
CATEGORIES:Families,Little Penlee Explorers
ATTACH;FMTTYPE=image/jpeg:https://penleehouse.org.uk/wp-content/uploads/2025/02/PZC2025025-7-scaled.jpg
END:VEVENT
END:VCALENDAR