BEGIN:VCALENDAR
VERSION:2.0
PRODID:-//Penlee House - ECPv6.15.11//NONSGML v1.0//EN
CALSCALE:GREGORIAN
METHOD:PUBLISH
X-ORIGINAL-URL:https://penleehouse.org.uk
X-WR-CALDESC:Events for Penlee House
REFRESH-INTERVAL;VALUE=DURATION:PT1H
X-Robots-Tag:noindex
X-PUBLISHED-TTL:PT1H
BEGIN:VTIMEZONE
TZID:UTC
BEGIN:STANDARD
TZOFFSETFROM:+0000
TZOFFSETTO:+0000
TZNAME:UTC
DTSTART:20250101T000000
END:STANDARD
END:VTIMEZONE
BEGIN:VEVENT
DTSTART;TZID=UTC:20260302T100000
DTEND;TZID=UTC:20260302T113000
DTSTAMP:20260424T025011
CREATED:20251121T150656Z
LAST-MODIFIED:20251121T150656Z
UID:35732-1772445600-1772451000@penleehouse.org.uk
SUMMARY:Baby Sensory
DESCRIPTION:Free\, drop-in session for babies from birth to crawlers. Come and experience the amazing artworks whilst exploring sensory play together in the Gallery.
URL:https://penleehouse.org.uk/event/baby-sensory-9/
CATEGORIES:Baby Sensory,Families
ATTACH;FMTTYPE=image/jpeg:https://penleehouse.org.uk/wp-content/uploads/2025/02/PZC2025025-6-scaled.jpg
END:VEVENT
BEGIN:VEVENT
DTSTART;TZID=UTC:20260302T100000
DTEND;TZID=UTC:20260302T120000
DTSTAMP:20260424T025011
CREATED:20251121T150857Z
LAST-MODIFIED:20251121T150857Z
UID:35734-1772445600-1772452800@penleehouse.org.uk
SUMMARY:Little Penlee Explorers: Drop-in sessions for under 5s
DESCRIPTION:Join us to explore\, play and create at Penlee House! With activities throughout the galleries\, these free\, drop-in sessions are for under-5s and their grown-ups. \nMonthly on Mondays\, 10 am-12 pm.
URL:https://penleehouse.org.uk/event/little-penlee-explorers-drop-in-sessions-for-under-5s-6/
CATEGORIES:Families,Little Penlee Explorers
ATTACH;FMTTYPE=image/jpeg:https://penleehouse.org.uk/wp-content/uploads/2025/02/PZC2025025-7-scaled.jpg
END:VEVENT
BEGIN:VEVENT
DTSTART;TZID=UTC:20260307T143000
DTEND;TZID=UTC:20260307T153000
DTSTAMP:20260424T025011
CREATED:20260224T150341Z
LAST-MODIFIED:20260224T150341Z
UID:37286-1772893800-1772897400@penleehouse.org.uk
SUMMARY:Arty Afternoons: Newlyn copper badges
DESCRIPTION:Come and visit our beautiful collection of Newlyn Copper in the Social History Museum\, which was originally made by out-of-work fishermen. What wildlife can you spot on the designs? Draw your own Newlyn Copper design inspired by the sea and make it into a badge to wear at home. \n\nFREE family activities take place every Saturday; drop in anytime between 2.30 pm and 3.30 pm.
URL:https://penleehouse.org.uk/event/arty-afternoons-newlyn-copper-badges/
CATEGORIES:Arty Afternoons,Families
ATTACH;FMTTYPE=image/png:https://penleehouse.org.uk/wp-content/uploads/2026/02/12.png
END:VEVENT
BEGIN:VEVENT
DTSTART;TZID=UTC:20260314T143000
DTEND;TZID=UTC:20260314T153000
DTSTAMP:20260424T025011
CREATED:20260224T151323Z
LAST-MODIFIED:20260224T151323Z
UID:37289-1773498600-1773502200@penleehouse.org.uk
SUMMARY:Arty Afternoons: Mix and Match flip book
DESCRIPTION:Take a look at the wonderful exhibition of photographs and portraits here at Penlee House Gallery & Museum. There are so many different types of hats\, clothes and people on display. Create a paper mix-and-match book\, where you can muddle up what people are wearing! \nFREE family activities take place every Saturday; drop in anytime between 2.30 pm and 3.30 pm.
URL:https://penleehouse.org.uk/event/arty-afternoons-mix-and-match-flip-book/
CATEGORIES:Arty Afternoons,Families
ATTACH;FMTTYPE=image/png:https://penleehouse.org.uk/wp-content/uploads/2026/02/13.png
END:VEVENT
BEGIN:VEVENT
DTSTART;TZID=UTC:20260316T100000
DTEND;TZID=UTC:20260316T113000
DTSTAMP:20260424T025011
CREATED:20251121T151322Z
LAST-MODIFIED:20251121T151322Z
UID:35737-1773655200-1773660600@penleehouse.org.uk
SUMMARY:Baby Sensory
DESCRIPTION:Free\, drop-in session for babies from birth to crawlers. Come and experience the amazing artworks whilst exploring sensory play together in the Gallery.
URL:https://penleehouse.org.uk/event/baby-sensory-10/
CATEGORIES:Baby Sensory,Families
ATTACH;FMTTYPE=image/jpeg:https://penleehouse.org.uk/wp-content/uploads/2025/02/PZC2025025-6-scaled.jpg
END:VEVENT
BEGIN:VEVENT
DTSTART;TZID=UTC:20260321T143000
DTEND;TZID=UTC:20260321T153000
DTSTAMP:20260424T025011
CREATED:20260224T152237Z
LAST-MODIFIED:20260224T152521Z
UID:37292-1774103400-1774107000@penleehouse.org.uk
SUMMARY:Arty Afternoons: Zoom in and Draw
DESCRIPTION:Explore the wonderful paintings\, photographs an artefact that we have in our gallery and museum spaces. Take a viewfinder with you and look for exciting details. Zoom in on the details and draw new artworks based on what you can see inside your viewfinder\, but on a bigger scale! \nFREE family activities take place every Saturday; drop in anytime between 2.30 pm and 3.30 pm.
URL:https://penleehouse.org.uk/event/arty-afternoons-zoom-in-and-draw/
CATEGORIES:Arty Afternoons,Families
ATTACH;FMTTYPE=image/png:https://penleehouse.org.uk/wp-content/uploads/2026/02/14.png
END:VEVENT
BEGIN:VEVENT
DTSTART;TZID=UTC:20260328T143000
DTEND;TZID=UTC:20260328T153000
DTSTAMP:20260424T025011
CREATED:20260224T152913Z
LAST-MODIFIED:20260224T152913Z
UID:37295-1774708200-1774711800@penleehouse.org.uk
SUMMARY:Arty Afternoons: Fuzzy Felt faces
DESCRIPTION:There are all sorts of faces in the current exhibition. Create a fuzzy felt face shaped board and add in different eyes\, ears\, noses and other facial features! \n\nFREE family activities take place every Saturday; drop in anytime between 2.30 pm and 3.30 pm.
URL:https://penleehouse.org.uk/event/arty-afternoons-fuzzy-felt-faces/
CATEGORIES:Arty Afternoons,Families
ATTACH;FMTTYPE=image/png:https://penleehouse.org.uk/wp-content/uploads/2026/02/15.png
END:VEVENT
BEGIN:VEVENT
DTSTART;TZID=UTC:20260330T100000
DTEND;TZID=UTC:20260330T113000
DTSTAMP:20260424T025011
CREATED:20251121T151459Z
LAST-MODIFIED:20251121T151459Z
UID:35739-1774864800-1774870200@penleehouse.org.uk
SUMMARY:Baby Sensory
DESCRIPTION:Free\, drop-in session for babies from birth to crawlers. Come and experience the amazing artworks whilst exploring sensory play together in the Gallery.
URL:https://penleehouse.org.uk/event/baby-sensory-11/
CATEGORIES:Baby Sensory,Families
ATTACH;FMTTYPE=image/jpeg:https://penleehouse.org.uk/wp-content/uploads/2025/02/PZC2025025-6-scaled.jpg
END:VEVENT
END:VCALENDAR