BEGIN:VCALENDAR
VERSION:2.0
PRODID:-//Penlee House - ECPv6.15.11//NONSGML v1.0//EN
CALSCALE:GREGORIAN
METHOD:PUBLISH
X-WR-CALNAME:Penlee House
X-ORIGINAL-URL:https://penleehouse.org.uk
X-WR-CALDESC:Events for Penlee House
REFRESH-INTERVAL;VALUE=DURATION:PT1H
X-Robots-Tag:noindex
X-PUBLISHED-TTL:PT1H
BEGIN:VTIMEZONE
TZID:UTC
BEGIN:STANDARD
TZOFFSETFROM:+0000
TZOFFSETTO:+0000
TZNAME:UTC
DTSTART:20250101T000000
END:STANDARD
END:VTIMEZONE
BEGIN:VEVENT
DTSTART;TZID=UTC:20260103T143000
DTEND;TZID=UTC:20260103T153000
DTSTAMP:20260424T225922
CREATED:20251215T120022Z
LAST-MODIFIED:20251215T120022Z
UID:35951-1767450600-1767454200@penleehouse.org.uk
SUMMARY:Arty Afternoons: Backgrounds and Foregrounds – Mixed Media Artworks
DESCRIPTION:Get inspired by the paintings in our exhibitions and create a beautiful\, mixed-media landscape artwork. Learn all about perspective and how objects are larger in the foreground\, and smaller the further away they are in the background. \nFREE family activities take place every Saturday; drop in anytime between 2.30 pm and 3.30 pm.
URL:https://penleehouse.org.uk/event/arty-afternoons-backgrounds-and-foregrounds-mixed-media-artworks/
CATEGORIES:Arty Afternoons,Families
ATTACH;FMTTYPE=image/png:https://penleehouse.org.uk/wp-content/uploads/2025/12/8.png
END:VEVENT
BEGIN:VEVENT
DTSTART;TZID=UTC:20260105T100000
DTEND;TZID=UTC:20260105T113000
DTSTAMP:20260424T225922
CREATED:20251121T145642Z
LAST-MODIFIED:20251121T145642Z
UID:35720-1767607200-1767612600@penleehouse.org.uk
SUMMARY:Baby Sensory
DESCRIPTION:Free\, drop-in session for babies from birth to crawlers. Come and experience the amazing artworks whilst exploring sensory play together in the Gallery.
URL:https://penleehouse.org.uk/event/baby-sensory-3/
CATEGORIES:Baby Sensory,Families
ATTACH;FMTTYPE=image/jpeg:https://penleehouse.org.uk/wp-content/uploads/2025/02/PZC2025025-6-scaled.jpg
END:VEVENT
BEGIN:VEVENT
DTSTART;TZID=UTC:20260105T100000
DTEND;TZID=UTC:20260105T120000
DTSTAMP:20260424T225922
CREATED:20251121T145833Z
LAST-MODIFIED:20251121T145833Z
UID:35722-1767607200-1767614400@penleehouse.org.uk
SUMMARY:Little Penlee Explorers: Drop-in sessions for under 5s
DESCRIPTION:Join us to explore\, play and create at Penlee House! With activities throughout the galleries\, these free\, drop-in sessions are for under-5s and their grown-ups. \nMonthly on Mondays\, 10 am-12 pm.
URL:https://penleehouse.org.uk/event/little-penlee-explorers-drop-in-sessions-for-under-5s-3/
CATEGORIES:Families,Little Penlee Explorers
ATTACH;FMTTYPE=image/jpeg:https://penleehouse.org.uk/wp-content/uploads/2025/02/PZC2025025-7-scaled.jpg
END:VEVENT
BEGIN:VEVENT
DTSTART;TZID=UTC:20260110T143000
DTEND;TZID=UTC:20260110T153000
DTSTAMP:20260424T225922
CREATED:20251215T121029Z
LAST-MODIFIED:20251215T121029Z
UID:35953-1768055400-1768059000@penleehouse.org.uk
SUMMARY:Arty Afternoons: Through a Newlyn Window
DESCRIPTION:Create a 3D scene from card showing the view from a Newlyn cottage window. Explore paintings of local scenes by the Newlyn School and draw your own version of what you might have seen either today or 125 years ago. \nFREE family activities take place every Saturday; drop in anytime between 2.30 pm and 3.30 pm.
URL:https://penleehouse.org.uk/event/arty-afternoons-through-a-newlyn-window/
CATEGORIES:Arty Afternoons,Families
ATTACH;FMTTYPE=image/png:https://penleehouse.org.uk/wp-content/uploads/2025/12/9.png
END:VEVENT
BEGIN:VEVENT
DTSTART;TZID=UTC:20260117T143000
DTEND;TZID=UTC:20260117T153000
DTSTAMP:20260424T225922
CREATED:20251215T121458Z
LAST-MODIFIED:20251215T121458Z
UID:35955-1768660200-1768663800@penleehouse.org.uk
SUMMARY:Arty Afternoons: Museum Explorer Sketchbook
DESCRIPTION:Make a tiny sketchbook with the Penlee House team. Then explore our wonderful archaeology and social history museum galleries and sketch your favourite artefacts on display. \nFREE family activities take place every Saturday; drop in anytime between 2.30 pm and 3.30 pm.
URL:https://penleehouse.org.uk/event/arty-afternoons-museum-explorer-sketchbook/
CATEGORIES:Arty Afternoons,Families
ATTACH;FMTTYPE=image/png:https://penleehouse.org.uk/wp-content/uploads/2025/12/10.png
END:VEVENT
BEGIN:VEVENT
DTSTART;TZID=UTC:20260119T100000
DTEND;TZID=UTC:20260119T113000
DTSTAMP:20260424T225922
CREATED:20251121T150017Z
LAST-MODIFIED:20251121T150017Z
UID:35724-1768816800-1768822200@penleehouse.org.uk
SUMMARY:Baby Sensory
DESCRIPTION:Free\, drop-in session for babies from birth to crawlers. Come and experience the amazing artworks whilst exploring sensory play together in the Gallery.
URL:https://penleehouse.org.uk/event/baby-sensory-6/
CATEGORIES:Baby Sensory,Families
ATTACH;FMTTYPE=image/jpeg:https://penleehouse.org.uk/wp-content/uploads/2025/02/PZC2025025-6-scaled.jpg
END:VEVENT
BEGIN:VEVENT
DTSTART;TZID=UTC:20260124T143000
DTEND;TZID=UTC:20260124T153000
DTSTAMP:20260424T225922
CREATED:20251215T122621Z
LAST-MODIFIED:20251215T122621Z
UID:35957-1769265000-1769268600@penleehouse.org.uk
SUMMARY:Arty Afternoons: Paper Portrait Collage
DESCRIPTION:Explore the new exhibition of beautiful portraits at Penlee House. Get creative by drawing your own portrait on tracing paper\, then transfer each facial feature onto colourful card and paper. Finally\, cut out and collage your pieces together to make a bright and cheerful portrait masterpiece to take home. \nFREE family activities take place every Saturday; drop in anytime between 2.30 pm and 3.30 pm.
URL:https://penleehouse.org.uk/event/arty-afternoons-paper-portrait-collage/
CATEGORIES:Arty Afternoons,Families
ATTACH;FMTTYPE=image/png:https://penleehouse.org.uk/wp-content/uploads/2025/12/11.png
END:VEVENT
BEGIN:VEVENT
DTSTART;TZID=UTC:20260131T143000
DTEND;TZID=UTC:20260131T153000
DTSTAMP:20260424T225922
CREATED:20251215T125303Z
LAST-MODIFIED:20251215T125303Z
UID:35959-1769869800-1769873400@penleehouse.org.uk
SUMMARY:Arty Afternoons: Put yourself into a Newlyn School portrait
DESCRIPTION:Be inspired by the collection of Newlyn School portraits in the exhibition here at Penlee House. Imagine yourself in the shoes of the people in the portraits and draw yourself into one of the famous Newlyn School paintings. \nFREE family activities take place every Saturday; drop in anytime between 2.30 pm and 3.30 pm.
URL:https://penleehouse.org.uk/event/arty-afternoons-put-yourself-into-a-newlyn-school-portrait/
CATEGORIES:Arty Afternoons,Families
ATTACH;FMTTYPE=image/png:https://penleehouse.org.uk/wp-content/uploads/2025/12/12.png
END:VEVENT
END:VCALENDAR