BEGIN:VCALENDAR
VERSION:2.0
PRODID:-//Penlee House - ECPv6.15.11//NONSGML v1.0//EN
CALSCALE:GREGORIAN
METHOD:PUBLISH
X-ORIGINAL-URL:https://penleehouse.org.uk
X-WR-CALDESC:Events for Penlee House
REFRESH-INTERVAL;VALUE=DURATION:PT1H
X-Robots-Tag:noindex
X-PUBLISHED-TTL:PT1H
BEGIN:VTIMEZONE
TZID:UTC
BEGIN:STANDARD
TZOFFSETFROM:+0000
TZOFFSETTO:+0000
TZNAME:UTC
DTSTART:20250101T000000
END:STANDARD
END:VTIMEZONE
BEGIN:VEVENT
DTSTART;TZID=UTC:20260207T143000
DTEND;TZID=UTC:20260207T153000
DTSTAMP:20260424T081621
CREATED:20251215T145942Z
LAST-MODIFIED:20251215T145942Z
UID:35961-1770474600-1770478200@penleehouse.org.uk
SUMMARY:Arty Afternoons: Victorian Silhouettes
DESCRIPTION:Many of the portraits in the current exhibition were painted during or around the Victorian Era. Try making your own Victorian-style silhouette artwork. You could base it on one of the portraits in the gallery or imagine a scene from Newlyn about 100 years ago — perhaps fishwives selling their catch or fishermen setting out to sea. \nFREE family activities take place every Saturday; drop in anytime between 2.30 pm and 3.30 pm.
URL:https://penleehouse.org.uk/event/arty-afternoons-victorian-silhouettes/
CATEGORIES:Arty Afternoons,Families
ATTACH;FMTTYPE=image/png:https://penleehouse.org.uk/wp-content/uploads/2025/12/13.png
END:VEVENT
BEGIN:VEVENT
DTSTART;TZID=UTC:20260214T143000
DTEND;TZID=UTC:20260214T153000
DTSTAMP:20260424T081621
CREATED:20251215T150538Z
LAST-MODIFIED:20251215T150538Z
UID:35963-1771079400-1771083000@penleehouse.org.uk
SUMMARY:Arty Afternoons: Colourise Black and White photos
DESCRIPTION:Discover the historical photographs in the Harry Penhaul exhibition. These were taken before colour photography\, but can you make them modern by adding colour? Use different materials to colourise the brilliant photos of local life in West Cornwall in the 1940s and 50s. \nFREE family activities take place every Saturday; drop in anytime between 2.30 pm and 3.30 pm.
URL:https://penleehouse.org.uk/event/arty-afternoons-colourise-black-and-white-photos/
CATEGORIES:Arty Afternoons,Families
ATTACH;FMTTYPE=image/png:https://penleehouse.org.uk/wp-content/uploads/2025/12/14.png
END:VEVENT
BEGIN:VEVENT
DTSTART;TZID=UTC:20260219T133000
DTEND;TZID=UTC:20260219T153000
DTSTAMP:20260424T081621
CREATED:20260204T165230Z
LAST-MODIFIED:20260204T165230Z
UID:36443-1771507800-1771515000@penleehouse.org.uk
SUMMARY:February Half Term Activity: Harry Penhaul inspired camera viewfinders and film rolls
DESCRIPTION:Join us at Penlee House Gallery & Museum this half term and explore the exhibition of photographs by Harry Penhaul. Create a mini camera viewfinder and imagine taking photos of the exhibitions. Sketch what you have discovered on a ‘roll of camera film’\, and your drawings will become the ‘photographic’ images.
URL:https://penleehouse.org.uk/event/february-half-term-activity-harry-penhaul-inspired-camera-viewfinders-and-film-rolls/
CATEGORIES:Arty Afternoons,Half Terms and Holidays
ATTACH;FMTTYPE=image/jpeg:https://penleehouse.org.uk/wp-content/uploads/2026/02/DIY-Cardboard-Camera-DIY-Toy-for-Kids-5.jpg
END:VEVENT
BEGIN:VEVENT
DTSTART;TZID=UTC:20260221T143000
DTEND;TZID=UTC:20260221T153000
DTSTAMP:20260424T081621
CREATED:20251215T151756Z
LAST-MODIFIED:20251215T151756Z
UID:35965-1771684200-1771687800@penleehouse.org.uk
SUMMARY:Arty Afternoons: Dress a Portrait
DESCRIPTION:Many of the portraits and photographs in the current exhibition show people from past times. Bring history into the present and update the people in the images by dressing them in modern clothes and giving them more modern accessories. You could swap a mirror for a mobile phone or a traditional Victorian outfit for a football kit! \nFREE family activities take place every Saturday; drop in anytime between 2.30 pm and 3.30 pm.
URL:https://penleehouse.org.uk/event/arty-afternoons-dress-a-portrait/
CATEGORIES:Arty Afternoons,Families
ATTACH;FMTTYPE=image/png:https://penleehouse.org.uk/wp-content/uploads/2025/12/16.png
END:VEVENT
BEGIN:VEVENT
DTSTART;TZID=UTC:20260228T143000
DTEND;TZID=UTC:20260228T153000
DTSTAMP:20260424T081621
CREATED:20251215T154745Z
LAST-MODIFIED:20251215T154745Z
UID:35967-1772289000-1772292600@penleehouse.org.uk
SUMMARY:Arty Afternoons: Paper Chain People
DESCRIPTION:Discover the many different people shown in the paintings and photographs at Penlee House Gallery & Museum. Make a paper chain of all the people you spot and decorate their clothes and special features to show who they are or what they are doing in the pictures. \nFREE family activities take place every Saturday; drop in anytime between 2.30 pm and 3.30 pm.
URL:https://penleehouse.org.uk/event/arty-afternoons-paper-chain-people-2/
CATEGORIES:Arty Afternoons,Families
ATTACH;FMTTYPE=image/png:https://penleehouse.org.uk/wp-content/uploads/2025/12/17.png
END:VEVENT
END:VCALENDAR