BEGIN:VCALENDAR
VERSION:2.0
PRODID:-//Penlee House - ECPv6.15.11//NONSGML v1.0//EN
CALSCALE:GREGORIAN
METHOD:PUBLISH
X-WR-CALNAME:Penlee House
X-ORIGINAL-URL:https://penleehouse.org.uk
X-WR-CALDESC:Events for Penlee House
REFRESH-INTERVAL;VALUE=DURATION:PT1H
X-Robots-Tag:noindex
X-PUBLISHED-TTL:PT1H
BEGIN:VTIMEZONE
TZID:UTC
BEGIN:STANDARD
TZOFFSETFROM:+0000
TZOFFSETTO:+0000
TZNAME:UTC
DTSTART:20250101T000000
END:STANDARD
END:VTIMEZONE
BEGIN:VEVENT
DTSTART;TZID=UTC:20260307T143000
DTEND;TZID=UTC:20260307T153000
DTSTAMP:20260424T184444
CREATED:20260224T150341Z
LAST-MODIFIED:20260224T150341Z
UID:37286-1772893800-1772897400@penleehouse.org.uk
SUMMARY:Arty Afternoons: Newlyn copper badges
DESCRIPTION:Come and visit our beautiful collection of Newlyn Copper in the Social History Museum\, which was originally made by out-of-work fishermen. What wildlife can you spot on the designs? Draw your own Newlyn Copper design inspired by the sea and make it into a badge to wear at home. \n\nFREE family activities take place every Saturday; drop in anytime between 2.30 pm and 3.30 pm.
URL:https://penleehouse.org.uk/event/arty-afternoons-newlyn-copper-badges/
CATEGORIES:Arty Afternoons,Families
ATTACH;FMTTYPE=image/png:https://penleehouse.org.uk/wp-content/uploads/2026/02/12.png
END:VEVENT
END:VCALENDAR