BEGIN:VCALENDAR
VERSION:2.0
PRODID:-//Penlee House - ECPv6.15.11//NONSGML v1.0//EN
CALSCALE:GREGORIAN
METHOD:PUBLISH
X-WR-CALNAME:Penlee House
X-ORIGINAL-URL:https://penleehouse.org.uk
X-WR-CALDESC:Events for Penlee House
REFRESH-INTERVAL;VALUE=DURATION:PT1H
X-Robots-Tag:noindex
X-PUBLISHED-TTL:PT1H
BEGIN:VTIMEZONE
TZID:UTC
BEGIN:STANDARD
TZOFFSETFROM:+0000
TZOFFSETTO:+0000
TZNAME:UTC
DTSTART:20240101T000000
END:STANDARD
END:VTIMEZONE
BEGIN:VEVENT
DTSTART;TZID=UTC:20250618T100000
DTEND;TZID=UTC:20250806T170000
DTSTAMP:20260424T165533
CREATED:20250701T105342Z
LAST-MODIFIED:20250701T105342Z
UID:34528-1750240800-1754499600@penleehouse.org.uk
SUMMARY:Social History Exhibition: Arts and Health
DESCRIPTION:Getting involved in the arts can improve health and well-being. \nPeople report that creative activities reduce stress\, improve mood and build confidence.  They’re also an enjoyable way of spending time with others whilst learning new skills. \nDuring Spring 2025\, Penlee House Gallery & Museum offered a series of workshops for adults in the local community who are facing difficulties or living with conditions which affect their health and wellbeing. \nWorking with artist Melanie Young\, participants visited the Gallery and used the collections and exhibitions at Penlee House as the inspiration for their own artwork. They used a variety of media\, including drawing\, painting\, collage and printmaking. This small exhibition displays some of the work created. \nWe would like to thank the participants for allowing the exhibition of their work and the project funders\, the Friends of Penlee House and Arts Council England. \n 
URL:https://penleehouse.org.uk/event/social-history-exhibition-arts-and-health/
ATTACH;FMTTYPE=image/jpeg:https://penleehouse.org.uk/wp-content/uploads/2025/07/20250701_105752.jpg
END:VEVENT
BEGIN:VEVENT
DTSTART;TZID=UTC:20250712T143000
DTEND;TZID=UTC:20250712T153000
DTSTAMP:20260424T165533
CREATED:20250613T075918Z
LAST-MODIFIED:20250613T080153Z
UID:34473-1752330600-1752334200@penleehouse.org.uk
SUMMARY:Festival of Archaeology – Meet an Archaeologist / Roman Treasure Craft
DESCRIPTION:Running from 10:00 am to 1:30 pm. Come along to Penlee House and meet an archaeologist. They will share all the behind-the-scenes information about how to be an archaeologist and what they do\, as well as share their incredible local knowledge and finds they have made! Make a Roman-style cameo design for a ring and take part in a fun dig.
URL:https://penleehouse.org.uk/event/festival-of-archaeology-meet-an-archaeologist-roman-treasure-craft/
ATTACH;FMTTYPE=image/png:https://penleehouse.org.uk/wp-content/uploads/2025/06/14.png
END:VEVENT
BEGIN:VEVENT
DTSTART;TZID=UTC:20250712T143000
DTEND;TZID=UTC:20250712T153000
DTSTAMP:20260424T165533
CREATED:20250613T083116Z
LAST-MODIFIED:20250613T084028Z
UID:34475-1752330600-1752334200@penleehouse.org.uk
SUMMARY:Festival of Archaeology - Air Dough Roman Rings
DESCRIPTION:Take a look at the beautiful\, new Roman ring on display in the archaeology gallery. Design and make your own Roman ring using colourful air dough.
URL:https://penleehouse.org.uk/event/festival-of-archaeology-air-dough-roman-rings/
ATTACH;FMTTYPE=image/png:https://penleehouse.org.uk/wp-content/uploads/2025/06/15.png
END:VEVENT
END:VCALENDAR