BEGIN:VCALENDAR
VERSION:2.0
PRODID:-//Penlee House - ECPv6.15.11//NONSGML v1.0//EN
CALSCALE:GREGORIAN
METHOD:PUBLISH
X-ORIGINAL-URL:https://penleehouse.org.uk
X-WR-CALDESC:Events for Penlee House
REFRESH-INTERVAL;VALUE=DURATION:PT1H
X-Robots-Tag:noindex
X-PUBLISHED-TTL:PT1H
BEGIN:VTIMEZONE
TZID:UTC
BEGIN:STANDARD
TZOFFSETFROM:+0000
TZOFFSETTO:+0000
TZNAME:UTC
DTSTART:20240101T000000
END:STANDARD
END:VTIMEZONE
BEGIN:VEVENT
DTSTART;TZID=UTC:20250426T143000
DTEND;TZID=UTC:20250426T153000
DTSTAMP:20260423T213420
CREATED:20250131T125052Z
LAST-MODIFIED:20250220T120339Z
UID:30714-1745677800-1745681400@penleehouse.org.uk
SUMMARY:Arty Afternoons: Save our Seas Mixed Media Collage
DESCRIPTION:There are lots of messages in our exhibition about looking after our ocean and reducing plastic waste. Explore the sea scenes and create a mixed-media collage of seaweed\, nets\, and ocean colours. \n\nFREE family activities take place every Saturday; drop in anytime between 2.30pm and 3.30pm
URL:https://penleehouse.org.uk/event/arty-afternoons-save-our-seas-mixed-media-collage/
ATTACH;FMTTYPE=image/jpeg:https://penleehouse.org.uk/wp-content/uploads/2025/01/maxresdefault.jpg
END:VEVENT
END:VCALENDAR