BEGIN:VCALENDAR
VERSION:2.0
PRODID:-//Penlee House - ECPv6.15.11//NONSGML v1.0//EN
CALSCALE:GREGORIAN
METHOD:PUBLISH
X-WR-CALNAME:Penlee House
X-ORIGINAL-URL:https://penleehouse.org.uk
X-WR-CALDESC:Events for Penlee House
REFRESH-INTERVAL;VALUE=DURATION:PT1H
X-Robots-Tag:noindex
X-PUBLISHED-TTL:PT1H
BEGIN:VTIMEZONE
TZID:UTC
BEGIN:STANDARD
TZOFFSETFROM:+0000
TZOFFSETTO:+0000
TZNAME:UTC
DTSTART:20240101T000000
END:STANDARD
END:VTIMEZONE
BEGIN:VEVENT
DTSTART;TZID=UTC:20250419T143000
DTEND;TZID=UTC:20250419T153000
DTSTAMP:20260424T054544
CREATED:20250131T124620Z
LAST-MODIFIED:20250220T120829Z
UID:30711-1745073000-1745076600@penleehouse.org.uk
SUMMARY:Arty Afternoons: Changing Seasons Wheel
DESCRIPTION:How many seasons can you spot in the paintings in our galleries? Come and join us to make a changing seasons wheel. Draw and collage the different seasons onto a wheel\, thinking carefully about the different colours that are used to represent the types of weather. \n\n\nFREE family activities take place every Saturday; drop in anytime between 2.30 pm and 3.30 pm.
URL:https://penleehouse.org.uk/event/arty-afternoons-changing-seasons-wheel/
ATTACH;FMTTYPE=image/png:https://penleehouse.org.uk/wp-content/uploads/2025/01/16.png
END:VEVENT
END:VCALENDAR