BEGIN:VCALENDAR
VERSION:2.0
PRODID:-//Penlee House - ECPv6.15.11//NONSGML v1.0//EN
CALSCALE:GREGORIAN
METHOD:PUBLISH
X-ORIGINAL-URL:https://penleehouse.org.uk
X-WR-CALDESC:Events for Penlee House
REFRESH-INTERVAL;VALUE=DURATION:PT1H
X-Robots-Tag:noindex
X-PUBLISHED-TTL:PT1H
BEGIN:VTIMEZONE
TZID:UTC
BEGIN:STANDARD
TZOFFSETFROM:+0000
TZOFFSETTO:+0000
TZNAME:UTC
DTSTART:20240101T000000
END:STANDARD
END:VTIMEZONE
BEGIN:VEVENT
DTSTART;TZID=UTC:20250409T190000
DTEND;TZID=UTC:20250409T203000
DTSTAMP:20260423T213420
CREATED:20250326T122929Z
LAST-MODIFIED:20250408T133206Z
UID:30850-1744225200-1744230600@penleehouse.org.uk
SUMMARY:The Shape of Things: Talk and Q&A with Rachel Yates\, Sustainable PZ
DESCRIPTION:Join Rachel Yates from Sustainable PZ for an informal talk on the work that’s happening in the town to create a thriving community for the future—one that puts people\, place\, and planet first. From how it all began with Plastic Free PZ to connecting local work to national and global action … and the story in between. Why does Sustainable PZ do the work it does\, in the way it does\, and does it really make any difference? \nDate: Wednesday 9 April \nTime: 19:30 GMT \nLocation: Penlee House Gallery & Museum \nPrice: FREE\, but booking is essential 
URL:https://penleehouse.org.uk/event/the-shape-of-things-talk-and-qa-with-rachel-yates-sustainable-pz/
ATTACH;FMTTYPE=image/png:https://penleehouse.org.uk/wp-content/uploads/2025/03/Green-Illustrative-How-to-Save-Energy-Presentation-2.png
END:VEVENT
END:VCALENDAR