BEGIN:VCALENDAR
VERSION:2.0
PRODID:-//Penlee House - ECPv6.15.11//NONSGML v1.0//EN
CALSCALE:GREGORIAN
METHOD:PUBLISH
X-WR-CALNAME:Penlee House
X-ORIGINAL-URL:https://penleehouse.org.uk
X-WR-CALDESC:Events for Penlee House
REFRESH-INTERVAL;VALUE=DURATION:PT1H
X-Robots-Tag:noindex
X-PUBLISHED-TTL:PT1H
BEGIN:VTIMEZONE
TZID:UTC
BEGIN:STANDARD
TZOFFSETFROM:+0000
TZOFFSETTO:+0000
TZNAME:UTC
DTSTART:20240101T000000
END:STANDARD
END:VTIMEZONE
BEGIN:VEVENT
DTSTART;TZID=UTC:20250405T143000
DTEND;TZID=UTC:20250405T153000
DTSTAMP:20260423T175753
CREATED:20250131T123921Z
LAST-MODIFIED:20250220T121026Z
UID:30705-1743863400-1743867000@penleehouse.org.uk
SUMMARY:Arty Afternoons: Origami Boats
DESCRIPTION:Man the boats! Explore the paintings in the galleries that have boats in them and seek out the colourful origami boats made by Heamoor School. Design your own brightly coloured patterns and maybe include messages about climate change\, then learn how to fold it into an origami boat. \n\n\nFREE family activities take place every Saturday; drop in anytime between 2.30 pm and 3.30 pm.
URL:https://penleehouse.org.uk/event/arty-afternoons-origami-boats/
ATTACH;FMTTYPE=image/png:https://penleehouse.org.uk/wp-content/uploads/2025/01/14.png
END:VEVENT
END:VCALENDAR