BEGIN:VCALENDAR
VERSION:2.0
PRODID:-//Penlee House - ECPv6.15.11//NONSGML v1.0//EN
CALSCALE:GREGORIAN
METHOD:PUBLISH
X-ORIGINAL-URL:https://penleehouse.org.uk
X-WR-CALDESC:Events for Penlee House
REFRESH-INTERVAL;VALUE=DURATION:PT1H
X-Robots-Tag:noindex
X-PUBLISHED-TTL:PT1H
BEGIN:VTIMEZONE
TZID:UTC
BEGIN:STANDARD
TZOFFSETFROM:+0000
TZOFFSETTO:+0000
TZNAME:UTC
DTSTART:20240101T000000
END:STANDARD
END:VTIMEZONE
BEGIN:VEVENT
DTSTART;TZID=UTC:20250404T100000
DTEND;TZID=UTC:20250404T123000
DTSTAMP:20260423T213350
CREATED:20250204T144410Z
LAST-MODIFIED:20250227T134535Z
UID:30746-1743760800-1743769800@penleehouse.org.uk
SUMMARY:The Shape of Things: Reuse and Create workshop with Charlie Lewin- Sold Out
DESCRIPTION:Join us for a creative recycling workshop. Bring fabric scraps or unwanted old clothes and use them to create a piece in response to the exhibition The Shape of Things.  Working with artist Charlie Lewin\, you will select a section of an artwork and explore ways to develop your own response to it. \nDates: Saturday 29 March 2025 \nTime: 10.00 am – 12.30 pm \nLocation: The Coach House\, Penlee House \nTickets: This event is free but booking is essential
URL:https://penleehouse.org.uk/event/the-shape-of-things-reuse-and-create-workshop-with-charlie-lewin/
ATTACH;FMTTYPE=image/png:https://penleehouse.org.uk/wp-content/uploads/2025/02/Screenshot-2025-02-04-at-12.28.59.png
END:VEVENT
BEGIN:VEVENT
DTSTART;TZID=UTC:20250404T140000
DTEND;TZID=UTC:20250404T160000
DTSTAMP:20260423T213350
CREATED:20250326T123253Z
LAST-MODIFIED:20250326T123517Z
UID:30848-1743775200-1743782400@penleehouse.org.uk
SUMMARY:The Shape of Things: Climate Cafe supported by Sustainable Penzance
DESCRIPTION:Come and share a cuppa and some cake with like-minded individuals at our Climate Cafe. You can find out about work that’s happening in the town to create a better future for all\, as well as chat about the current issues we’re facing as a community. This is an open space to bring yourself as you are. What are your concerns\, worries and observations? How does it all make you feel? And where are the positive actions and outlets that we can all access to support each other\, and the beautiful planet we call home. \nDate: Friday 4 April \nTime: 2.00 pm- 4.00 pm \nLocation: Penlee House Coach House \nPrice: Free
URL:https://penleehouse.org.uk/event/the-shape-of-things-climate-cafe-supported-by-sustainable-penzance/
ATTACH;FMTTYPE=image/png:https://penleehouse.org.uk/wp-content/uploads/2025/03/Green-Illustrative-How-to-Save-Energy-Presentation.png
END:VEVENT
END:VCALENDAR