BEGIN:VCALENDAR
VERSION:2.0
PRODID:-//Penlee House - ECPv6.15.11//NONSGML v1.0//EN
CALSCALE:GREGORIAN
METHOD:PUBLISH
X-WR-CALNAME:Penlee House
X-ORIGINAL-URL:https://penleehouse.org.uk
X-WR-CALDESC:Events for Penlee House
REFRESH-INTERVAL;VALUE=DURATION:PT1H
X-Robots-Tag:noindex
X-PUBLISHED-TTL:PT1H
BEGIN:VTIMEZONE
TZID:UTC
BEGIN:STANDARD
TZOFFSETFROM:+0000
TZOFFSETTO:+0000
TZNAME:UTC
DTSTART:20240101T000000
END:STANDARD
END:VTIMEZONE
BEGIN:VEVENT
DTSTART;TZID=UTC:20250329T100000
DTEND;TZID=UTC:20250329T123000
DTSTAMP:20260423T034753
CREATED:20250204T102021Z
LAST-MODIFIED:20250227T134557Z
UID:30734-1743242400-1743251400@penleehouse.org.uk
SUMMARY:The Shape of Things: Seaweed pressing workshop with The Seaweed Institute - Sold Out
DESCRIPTION:Join us to learn the craft of seaweed pressing – a Victorian practice that captures the underwater beauty of seaweeds. \nDuring the workshop you will learn to recognise and identify local seaweed species. The cultural history of seaweeds will be discussed\, as well it’s agricultural\, scientific and ecological uses. You will learn how to forage\, store and use this abundant resource. \nAfter laying out your designs they will be loaded into our seaweed press where they will dry over the next weeks. You will receive the finished pieces by post once they are ready. \nDates: Saturday 29 March 2025 \nTime: 10.00 am – 12.30 pm \nLocation: The Coach House\, Penlee House \nTickets: This event is free but booking is essential
URL:https://penleehouse.org.uk/event/the-shape-of-things-seaweed-pressing-workshop-with-the-seaweed-institute/
ATTACH;FMTTYPE=image/jpeg:https://penleehouse.org.uk/wp-content/uploads/2025/02/https-cdn.evbuc_.com-images-635797259-1233920651743-1-original.20231106-101500.jpeg
END:VEVENT
BEGIN:VEVENT
DTSTART;TZID=UTC:20250329T143000
DTEND;TZID=UTC:20250329T153000
DTSTAMP:20260423T034753
CREATED:20250131T122702Z
LAST-MODIFIED:20250220T121427Z
UID:30702-1743258600-1743262200@penleehouse.org.uk
SUMMARY:Arty Afternoons: Save the Bees Jigsaw
DESCRIPTION:Seek out the beautiful bee wall hanging in Gallery 3. How many different types of bees can you spy? Join us to make a honeycomb jigsaw out of coloured cards full of bees and bee-friendly flowers. \n\n\nFREE family activities take place every Saturday; drop in anytime between 2.30 pm and 3.30 pm.
URL:https://penleehouse.org.uk/event/arty-afternoons-save-the-bees-jigsaw/
ATTACH;FMTTYPE=image/png:https://penleehouse.org.uk/wp-content/uploads/2025/01/12.png
END:VEVENT
END:VCALENDAR