BEGIN:VCALENDAR
VERSION:2.0
PRODID:-//Penlee House - ECPv6.15.11//NONSGML v1.0//EN
CALSCALE:GREGORIAN
METHOD:PUBLISH
X-WR-CALNAME:Penlee House
X-ORIGINAL-URL:https://penleehouse.org.uk
X-WR-CALDESC:Events for Penlee House
REFRESH-INTERVAL;VALUE=DURATION:PT1H
X-Robots-Tag:noindex
X-PUBLISHED-TTL:PT1H
BEGIN:VTIMEZONE
TZID:UTC
BEGIN:STANDARD
TZOFFSETFROM:+0000
TZOFFSETTO:+0000
TZNAME:UTC
DTSTART:20240101T000000
END:STANDARD
END:VTIMEZONE
BEGIN:VEVENT
DTSTART;TZID=UTC:20250322T100000
DTEND;TZID=UTC:20250322T130000
DTSTAMP:20260422T205644
CREATED:20250127T164039Z
LAST-MODIFIED:20250227T134357Z
UID:30682-1742637600-1742648400@penleehouse.org.uk
SUMMARY:The Shape of Things: Embroidered bees workshop with Vicky Harrison - Sold Out
DESCRIPTION:Find out about the many Cornish bee species\, their importance in ecosystems and how we can help save them. Embroider a bee to be added to the community quilt currently on display in the exhibition\, The Shape of Things: Our Place in a Changing Climate at Penlee House. \nPlease attend both weeks. If you cannot attend both weeks\, please note this when booking. \nDates: Saturday 8 and 22 March 2025 \nTime: 10.00 am – 1.00 pm \nLocation: The Coach House\, Penlee House \nTickets: This event is free but booking is essential \n\n		\n		\n			\n				\n			\n			\n				\n			\n			\n				\n			\n			\n				\n			\n			\n				\n			\n			\n				\n			\n		\n\nThese workshops are part of an ongoing community project\, Embroidered Bees for West Penwith\, and bees created during the workshops will be added to the quilt after the exhibition. More information can be found here \nhttps://www.facebook.com/groups/embroideredbees/ \n 
URL:https://penleehouse.org.uk/event/embroidered-bees-workshop-with-vicky-harrison-2/
ATTACH;FMTTYPE=image/jpeg:https://penleehouse.org.uk/wp-content/uploads/2025/01/IMG_1939-Copy-scaled.jpg
END:VEVENT
BEGIN:VEVENT
DTSTART;TZID=UTC:20250322T143000
DTEND;TZID=UTC:20250322T143000
DTSTAMP:20260422T205644
CREATED:20250131T122314Z
LAST-MODIFIED:20250220T122132Z
UID:30699-1742653800-1742653800@penleehouse.org.uk
SUMMARY:Arty Afternoons: Market Place – Air Dough Food
DESCRIPTION:Taking inspiration from Market Place by Stanhope Forbes\, make a mini market stall. Fill your stall with locally grown food made from colourful air dough. \n\nFREE family activities take place every Saturday; drop in anytime between 2.30 pm and 3.30 pm.
URL:https://penleehouse.org.uk/event/arty-afternoons-market-place-air-dough-food/
ATTACH;FMTTYPE=image/png:https://penleehouse.org.uk/wp-content/uploads/2025/01/11.png
END:VEVENT
END:VCALENDAR